BEGIN:VCALENDAR
VERSION:2.0
PRODID:-//Gemeinde Oberahr / Westerwald//NONSGML kigkonsult.se iCalcreator 
 2.30.10//
CALSCALE:GREGORIAN
METHOD:PUBLISH
UID:12f3f441-c793-4e32-a1f4-2bf9535c70d0
X-WR-CALNAME:iCagenda
X-WR-CALDESC:Event Management Extension for Joomla!
X-WR-RELCALID:3E26604A-50F4-4449-8B3E-E4F4932D05B5
X-WR-TIMEZONE:UTC
BEGIN:VTIMEZONE
TZID:UTC
END:VTIMEZONE
BEGIN:VEVENT
UID:ee7d1536-5893-4d0e-b759-a14c81545d80
DTSTAMP:20260421T141724Z
CATEGORIES:Hallenbelegung
CLASS:PUBLIC
DESCRIPTION;ALTREP="CID:<FFFF__=0ABBE548DFE235B58f9e8a93d@coffeebean.com>":
 Yi Jin Jing Training des Harmonie\, Bewegung Gesundheit e.V. Oberahr
DTSTART:20260501T190000Z
DTEND:20260501T200000Z
GEO:00;0
LOCATION:Dorfgemeinschaftshalle Oberahr
ORGANIZER;CN=:Johannes.Steudter@rz-online.de
SEQUENCE:1
SUMMARY:HBG e.V. Yi Jin Jing
TRANSP:OPAQUE
URL:https://www.oberahr.de/dorfgemeinschaftshalle/dgh-belegungsplan/99-hbg-
 e-v-yi-jin-jing/2026-05-01-19-00
END:VEVENT
END:VCALENDAR
