BEGIN:VCALENDAR
VERSION:2.0
PRODID:-//Gemeinde Oberahr / Westerwald//NONSGML kigkonsult.se iCalcreator 
 2.30.10//
CALSCALE:GREGORIAN
METHOD:PUBLISH
UID:c35be66f-f492-4362-a0f3-f63d369f8d4c
X-WR-CALNAME:iCagenda
X-WR-CALDESC:Event Management Extension for Joomla!
X-WR-RELCALID:3E26604A-50F4-4449-8B3E-E4F4932D05B5
X-WR-TIMEZONE:UTC
BEGIN:VTIMEZONE
TZID:UTC
END:VTIMEZONE
BEGIN:VEVENT
UID:e0704e3c-57f4-4c7e-bd09-655e08a55d17
DTSTAMP:20260421T131123Z
CATEGORIES:Hallenbelegung
CLASS:PUBLIC
DESCRIPTION;ALTREP="CID:<FFFF__=0ABBE548DFE235B58f9e8a93d@coffeebean.com>":
 Dienstags Abends findet das Volleyballtraining des TUS Oberahr statt
DTSTART:20261104T203000Z
DTEND:20261104T220000Z
GEO:00;0
LOCATION:Dorfgemeinschaftshalle Oberahr
ORGANIZER;CN=:vorstand@tus-oberahr.de
SEQUENCE:1
SUMMARY:TUS Volleyball
TRANSP:OPAQUE
URL:https://www.oberahr.de/dorfgemeinschaftshalle/dgh-belegungsplan/97-tus-
 volleyball/2026-11-04-20-30
END:VEVENT
END:VCALENDAR
