BEGIN:VCALENDAR
VERSION:2.0
PRODID:-//Gemeinde Oberahr / Westerwald//NONSGML kigkonsult.se iCalcreator 
 2.30.10//
CALSCALE:GREGORIAN
METHOD:PUBLISH
UID:55cc1e5a-a0c8-4d0c-abb1-7a56e476600a
X-WR-CALNAME:iCagenda
X-WR-CALDESC:Event Management Extension for Joomla!
X-WR-RELCALID:3E26604A-50F4-4449-8B3E-E4F4932D05B5
X-WR-TIMEZONE:UTC
BEGIN:VTIMEZONE
TZID:UTC
END:VTIMEZONE
BEGIN:VEVENT
UID:2b9d35d0-e4bb-44e7-9287-8e130c9df240
DTSTAMP:20260419T224826Z
CATEGORIES:Hallenbelegung
CLASS:PUBLIC
DESCRIPTION;ALTREP="CID:<FFFF__=0ABBE548DFE235B58f9e8a93d@coffeebean.com>":
 Dienstags Abends findet das Volleyballtraining des TUS Oberahr statt
DTSTART:20260701T203000Z
DTEND:20260701T220000Z
GEO:00;0
LOCATION:Dorfgemeinschaftshalle Oberahr
ORGANIZER;CN=:vorstand@tus-oberahr.de
SEQUENCE:1
SUMMARY:TUS Volleyball
TRANSP:OPAQUE
URL:https://www.oberahr.de/dorfgemeinschaftshalle/dgh-belegungsplan/97-tus-
 volleyball/2026-07-01-20-30
END:VEVENT
END:VCALENDAR
