BEGIN:VCALENDAR
VERSION:2.0
PRODID:-//Gemeinde Oberahr / Westerwald//NONSGML kigkonsult.se iCalcreator 
 2.30.10//
CALSCALE:GREGORIAN
METHOD:PUBLISH
UID:c91af10b-434c-40cc-a311-b3bb202cb058
X-WR-CALNAME:iCagenda
X-WR-CALDESC:Event Management Extension for Joomla!
X-WR-RELCALID:3E26604A-50F4-4449-8B3E-E4F4932D05B5
X-WR-TIMEZONE:UTC
BEGIN:VTIMEZONE
TZID:UTC
END:VTIMEZONE
BEGIN:VEVENT
UID:70b29166-0284-4125-8e84-91dadc1566f1
DTSTAMP:20260423T095516Z
CATEGORIES:Hallenbelegung
CLASS:PUBLIC
DESCRIPTION:
DTSTART:20260907T190000Z
DTEND:20260907T203000Z
GEO:00;0
LOCATION:Dorfgemeinschaftshalle Oberahr
ORGANIZER;CN=:Anke.Wedel@freenet.de
SEQUENCE:1
SUMMARY:Damengymnastikverein Oberahr
TRANSP:OPAQUE
URL:https://www.oberahr.de/dorfgemeinschaftshalle/dgh-belegungsplan/94-dame
 ngymnastikverein-oberahr/2026-09-07-19-00?iccaldate=2026-3-1
END:VEVENT
END:VCALENDAR
