BEGIN:VCALENDAR
VERSION:2.0
PRODID:-//Gemeinde Oberahr / Westerwald//NONSGML kigkonsult.se iCalcreator 
 2.30.10//
CALSCALE:GREGORIAN
METHOD:PUBLISH
UID:b443cd5b-7b4e-4b5b-b9a4-18e526a8f211
X-WR-CALNAME:iCagenda
X-WR-CALDESC:Event Management Extension for Joomla!
X-WR-RELCALID:3E26604A-50F4-4449-8B3E-E4F4932D05B5
X-WR-TIMEZONE:UTC
BEGIN:VTIMEZONE
TZID:UTC
END:VTIMEZONE
BEGIN:VEVENT
UID:01fede00-41a0-4662-bbbb-7486d2fe6035
DTSTAMP:20260424T120837Z
CATEGORIES:Hallenbelegung
CLASS:PUBLIC
DESCRIPTION:
DTSTART:20260613T000000Z
DTEND:20260613T000000Z
GEO:00;0
LOCATION:Nebenraum und Küche DGH
ORGANIZER:
SEQUENCE:1
SUMMARY:Private Feier - Wetischka
TRANSP:OPAQUE
URL:https://www.oberahr.de/dorfgemeinschaftshalle/dgh-belegungsplan/236-pri
 vate-feier-wetischka/2026-06-13-00-00
END:VEVENT
END:VCALENDAR
