BEGIN:VCALENDAR
VERSION:2.0
PRODID:-//Gemeinde Oberahr / Westerwald//NONSGML kigkonsult.se iCalcreator 
 2.30.10//
CALSCALE:GREGORIAN
METHOD:PUBLISH
UID:2c658826-5d11-42c3-b32a-ff6f321afd92
X-WR-CALNAME:iCagenda
X-WR-CALDESC:Event Management Extension for Joomla!
X-WR-RELCALID:3E26604A-50F4-4449-8B3E-E4F4932D05B5
X-WR-TIMEZONE:UTC
BEGIN:VTIMEZONE
TZID:UTC
END:VTIMEZONE
BEGIN:VEVENT
UID:d87d82b9-59a7-442e-b3e0-ec7806ca5b2c
DTSTAMP:20260419T165231Z
CATEGORIES:Hallenbelegung
CLASS:PUBLIC
DESCRIPTION;ALTREP="CID:<FFFF__=0ABBE548DFE235B58f9e8a93d@coffeebean.com>":
 Senioren Volleyball des TUS Oberahr
DTSTART:20261026T170000Z
DTEND:20261026T170000Z
GEO:00;0
LOCATION:
ORGANIZER:
SEQUENCE:1
SUMMARY:TUS Senioren Volleyball
TRANSP:OPAQUE
URL:https://www.oberahr.de/dorfgemeinschaftshalle/dgh-belegungsplan/124-tus
 -senioren-volleyball/2026-10-26-17-00
END:VEVENT
END:VCALENDAR
