BEGIN:VCALENDAR
VERSION:2.0
PRODID:-//Gemeinde Oberahr / Westerwald//NONSGML kigkonsult.se iCalcreator 
 2.30.10//
CALSCALE:GREGORIAN
METHOD:PUBLISH
UID:bfcbbf56-cc49-4456-b7b0-00a01c8ed1dd
X-WR-CALNAME:iCagenda
X-WR-CALDESC:Event Management Extension for Joomla!
X-WR-RELCALID:3E26604A-50F4-4449-8B3E-E4F4932D05B5
X-WR-TIMEZONE:UTC
BEGIN:VTIMEZONE
TZID:UTC
END:VTIMEZONE
BEGIN:VEVENT
UID:dabeb85b-e0b6-4ab9-bebc-beb5b681926f
DTSTAMP:20260426T001257Z
CATEGORIES:Hallenbelegung
CLASS:PUBLIC
DESCRIPTION:
DTSTART:20261224T154500Z
DTEND:20261224T154500Z
GEO:00;0
LOCATION:Dorfgemeinschaftshalle Oberahr
ORGANIZER:
SEQUENCE:1
SUMMARY:TuS Kinderturnen Kitakinder
TRANSP:OPAQUE
URL:https://www.oberahr.de/dorfgemeinschaftshalle/dgh-belegungsplan/123-tus
 -kinderturnen/2026-12-24-15-45
END:VEVENT
END:VCALENDAR
