BEGIN:VCALENDAR
VERSION:2.0
PRODID:-//Gemeinde Oberahr / Westerwald//NONSGML kigkonsult.se iCalcreator 
 2.30.10//
CALSCALE:GREGORIAN
METHOD:PUBLISH
UID:76a20a17-a314-4861-bb15-b3fc229d842c
X-WR-CALNAME:iCagenda
X-WR-CALDESC:Event Management Extension for Joomla!
X-WR-RELCALID:3E26604A-50F4-4449-8B3E-E4F4932D05B5
X-WR-TIMEZONE:UTC
BEGIN:VTIMEZONE
TZID:UTC
END:VTIMEZONE
BEGIN:VEVENT
UID:74389e6f-e930-414f-a0f3-f8ef442ae239
DTSTAMP:20260421T172219Z
CATEGORIES:Hallenbelegung
CLASS:PUBLIC
DESCRIPTION:
DTSTART:20260827T193000Z
DTEND:20260827T213000Z
GEO:00;0
LOCATION:Dorfgemeinschaftshalle Oberahr
ORGANIZER:
SEQUENCE:1
SUMMARY:TUS Oberahr Magic Star Dancers Training
TRANSP:OPAQUE
URL:https://www.oberahr.de/dorfgemeinschaftshalle/dgh-belegungsplan/100-mag
 ic-star-dancers/2026-08-27-19-30
END:VEVENT
END:VCALENDAR
