BEGIN:VCALENDAR
VERSION:2.0
PRODID:-//Gemeinde Oberahr / Westerwald//NONSGML kigkonsult.se iCalcreator 
 2.30.10//
CALSCALE:GREGORIAN
METHOD:PUBLISH
UID:1a0e7c7d-f2f6-4a35-91e6-53bd135f00eb
X-WR-CALNAME:iCagenda
X-WR-CALDESC:Event Management Extension for Joomla!
X-WR-RELCALID:3E26604A-50F4-4449-8B3E-E4F4932D05B5
X-WR-TIMEZONE:UTC
BEGIN:VTIMEZONE
TZID:UTC
END:VTIMEZONE
BEGIN:VEVENT
UID:4949c269-dc0d-4117-a6d6-9be79be2b5b9
DTSTAMP:20260423T105750Z
CATEGORIES:Hallenbelegung
CLASS:PUBLIC
DESCRIPTION;ALTREP="CID:<FFFF__=0ABBE548DFE235B58f9e8a93d@coffeebean.com>":
 Yi Jin Jing Training des Harmonie\, Bewegung Gesundheit e.V. Oberahr
DTSTART:20260130T190000Z
DTEND:20260130T200000Z
GEO:00;0
LOCATION:Dorfgemeinschaftshalle Oberahr
ORGANIZER;CN=:Johannes.Steudter@rz-online.de
SEQUENCE:1
SUMMARY:HBG e.V. Yi Jin Jing
TRANSP:OPAQUE
URL:https://www.oberahr.de/component/icagenda/99-hbg-e-v-yi-jin-jing/2026-0
 1-30-19-00?iccaldate=2026-5-1
END:VEVENT
END:VCALENDAR
