BEGIN:VCALENDAR
VERSION:2.0
PRODID:-//Gemeinde Oberahr / Westerwald//NONSGML kigkonsult.se iCalcreator 
 2.30.10//
CALSCALE:GREGORIAN
METHOD:PUBLISH
UID:5a7942d9-19b4-44c4-ae5f-766b39e6381c
X-WR-CALNAME:iCagenda
X-WR-CALDESC:Event Management Extension for Joomla!
X-WR-RELCALID:3E26604A-50F4-4449-8B3E-E4F4932D05B5
X-WR-TIMEZONE:UTC
BEGIN:VTIMEZONE
TZID:UTC
END:VTIMEZONE
BEGIN:VEVENT
UID:54b2a00b-c930-43ab-a23f-d75d9bf786ef
DTSTAMP:20260420T101452Z
CATEGORIES:Hallenbelegung
CLASS:PUBLIC
DESCRIPTION;ALTREP="CID:<FFFF__=0ABBE548DFE235B58f9e8a93d@coffeebean.com>":
 Yi Jin Jing Training des Harmonie\, Bewegung Gesundheit e.V. Oberahr
DTSTART:20240809T190000Z
DTEND:20240809T200000Z
GEO:00;0
LOCATION:Dorfgemeinschaftshalle Oberahr
ORGANIZER;CN=:Johannes.Steudter@rz-online.de
SEQUENCE:1
SUMMARY:HBG e.V. Yi Jin Jing
TRANSP:OPAQUE
URL:https://www.oberahr.de/component/icagenda/99-hbg-e-v-yi-jin-jing/2024-0
 8-09-19-00
END:VEVENT
END:VCALENDAR
