BEGIN:VCALENDAR
VERSION:2.0
PRODID:-//Gemeinde Oberahr / Westerwald//NONSGML kigkonsult.se iCalcreator 
 2.30.10//
CALSCALE:GREGORIAN
METHOD:PUBLISH
UID:35a7b7c2-8466-401b-bc68-85545c6219ad
X-WR-CALNAME:iCagenda
X-WR-CALDESC:Event Management Extension for Joomla!
X-WR-RELCALID:3E26604A-50F4-4449-8B3E-E4F4932D05B5
X-WR-TIMEZONE:UTC
BEGIN:VTIMEZONE
TZID:UTC
END:VTIMEZONE
BEGIN:VEVENT
UID:6fb92331-6e44-4675-bbf9-ca73fcfe8aec
DTSTAMP:20260423T085440Z
CATEGORIES:Hallenbelegung
CLASS:PUBLIC
DESCRIPTION;ALTREP="CID:<FFFF__=0ABBE548DFE235B58f9e8a93d@coffeebean.com>":
 Yi Jin Jing Training des Harmonie\, Bewegung Gesundheit e.V. Oberahr
DTSTART:20210226T190000Z
DTEND:20210226T200000Z
GEO:00;0
LOCATION:Dorfgemeinschaftshalle Oberahr
ORGANIZER;CN=:Johannes.Steudter@rz-online.de
SEQUENCE:1
SUMMARY:HBG e.V. Yi Jin Jing
TRANSP:OPAQUE
URL:https://www.oberahr.de/component/icagenda/99-hbg-e-v-yi-jin-jing/2021-0
 2-26-19-00?iccaldate=2026-3-1
END:VEVENT
END:VCALENDAR
