BEGIN:VCALENDAR
VERSION:2.0
PRODID:-//Gemeinde Oberahr / Westerwald//NONSGML kigkonsult.se iCalcreator 
 2.30.10//
CALSCALE:GREGORIAN
METHOD:PUBLISH
UID:5c046767-7c15-4015-abb6-a8b436e5a7a9
X-WR-CALNAME:iCagenda
X-WR-CALDESC:Event Management Extension for Joomla!
X-WR-RELCALID:3E26604A-50F4-4449-8B3E-E4F4932D05B5
X-WR-TIMEZONE:UTC
BEGIN:VTIMEZONE
TZID:UTC
END:VTIMEZONE
BEGIN:VEVENT
UID:df73882a-bb9d-4c96-9144-dc0478e84958
DTSTAMP:20260425T124929Z
CATEGORIES:Hallenbelegung
CLASS:PUBLIC
DESCRIPTION;ALTREP="CID:<FFFF__=0ABBE548DFE235B58f9e8a93d@coffeebean.com>":
 Dienstags Abends findet das Volleyballtraining des TUS Oberahr statt
DTSTART:20250903T203000Z
DTEND:20250903T220000Z
GEO:00;0
LOCATION:Dorfgemeinschaftshalle Oberahr
ORGANIZER;CN=:vorstand@tus-oberahr.de
SEQUENCE:1
SUMMARY:TuS Badminton
TRANSP:OPAQUE
URL:https://www.oberahr.de/component/icagenda/97-tus-volleyball/2025-09-03-
 20-30
END:VEVENT
END:VCALENDAR
