BEGIN:VCALENDAR
VERSION:2.0
PRODID:-//Gemeinde Oberahr / Westerwald//NONSGML kigkonsult.se iCalcreator 
 2.30.10//
CALSCALE:GREGORIAN
METHOD:PUBLISH
UID:dacd6e1e-3462-4617-97eb-4df24cfa91bc
X-WR-CALNAME:iCagenda
X-WR-CALDESC:Event Management Extension for Joomla!
X-WR-RELCALID:3E26604A-50F4-4449-8B3E-E4F4932D05B5
X-WR-TIMEZONE:UTC
BEGIN:VTIMEZONE
TZID:UTC
END:VTIMEZONE
BEGIN:VEVENT
UID:1b738e4a-ba79-47d5-a000-c2b4895206cc
DTSTAMP:20260424T201908Z
CATEGORIES:Hallenbelegung
CLASS:PUBLIC
DESCRIPTION;ALTREP="CID:<FFFF__=0ABBE548DFE235B58f9e8a93d@coffeebean.com>":
 Dienstags Abends findet das Volleyballtraining des TUS Oberahr statt
DTSTART:20240814T203000Z
DTEND:20240814T220000Z
GEO:00;0
LOCATION:Dorfgemeinschaftshalle Oberahr
ORGANIZER;CN=:vorstand@tus-oberahr.de
SEQUENCE:1
SUMMARY:TUS Volleyball
TRANSP:OPAQUE
URL:https://www.oberahr.de/component/icagenda/97-tus-volleyball/2024-08-14-
 20-30
END:VEVENT
END:VCALENDAR
