BEGIN:VCALENDAR
VERSION:2.0
PRODID:-//Gemeinde Oberahr / Westerwald//NONSGML kigkonsult.se iCalcreator 
 2.30.10//
CALSCALE:GREGORIAN
METHOD:PUBLISH
UID:39f8458f-e100-48c7-88e4-0ab124e99651
X-WR-CALNAME:iCagenda
X-WR-CALDESC:Event Management Extension for Joomla!
X-WR-RELCALID:3E26604A-50F4-4449-8B3E-E4F4932D05B5
X-WR-TIMEZONE:UTC
BEGIN:VTIMEZONE
TZID:UTC
END:VTIMEZONE
BEGIN:VEVENT
UID:9a2c4d21-40b6-4f1c-acf7-d0d40ae76a6e
DTSTAMP:20260422T134020Z
CATEGORIES:Hallenbelegung
CLASS:PUBLIC
DESCRIPTION;ALTREP="CID:<FFFF__=0ABBE548DFE235B58f9e8a93d@coffeebean.com>":
 das Seniorenturnen findet jeden Dienstag von 16.30 Uhr bis 17:30 Uhr statt
DTSTART:20250121T090000Z
DTEND:20250121T100000Z
GEO:00;0
LOCATION:Dorfgemeinschaftshalle Oberahr
ORGANIZER;CN=:Anke.Wedel@freenet.de
SEQUENCE:1
SUMMARY:Seniorenturnen DGV Oberahr
TRANSP:OPAQUE
URL:https://www.oberahr.de/component/icagenda/96-seniorenturnen-dgv-oberahr
 /2025-01-21-09-00
END:VEVENT
END:VCALENDAR
