BEGIN:VCALENDAR
VERSION:2.0
PRODID:-//Gemeinde Oberahr / Westerwald//NONSGML kigkonsult.se iCalcreator 
 2.30.10//
CALSCALE:GREGORIAN
METHOD:PUBLISH
UID:415506e3-1d88-4244-8ee0-101e464b4a38
X-WR-CALNAME:iCagenda
X-WR-CALDESC:Event Management Extension for Joomla!
X-WR-RELCALID:3E26604A-50F4-4449-8B3E-E4F4932D05B5
X-WR-TIMEZONE:UTC
BEGIN:VTIMEZONE
TZID:UTC
END:VTIMEZONE
BEGIN:VEVENT
UID:a310171a-7480-4e79-8bbc-a97a160ccb24
DTSTAMP:20260424T173840Z
CATEGORIES:Hallenbelegung
CLASS:PUBLIC
DESCRIPTION;ALTREP="CID:<FFFF__=0ABBE548DFE235B58f9e8a93d@coffeebean.com>":
 das Seniorenturnen findet jeden Dienstag von 16.30 Uhr bis 17:30 Uhr statt
DTSTART:20241001T090000Z
DTEND:20241001T100000Z
GEO:00;0
LOCATION:Dorfgemeinschaftshalle Oberahr
ORGANIZER;CN=:Anke.Wedel@freenet.de
SEQUENCE:1
SUMMARY:Seniorenturnen DGV Oberahr
TRANSP:OPAQUE
URL:https://www.oberahr.de/component/icagenda/96-seniorenturnen-dgv-oberahr
 /2024-10-01-09-00?iccaldate=2025-04-1
END:VEVENT
END:VCALENDAR
