BEGIN:VCALENDAR
VERSION:2.0
PRODID:-//Gemeinde Oberahr / Westerwald//NONSGML kigkonsult.se iCalcreator 
 2.30.10//
CALSCALE:GREGORIAN
METHOD:PUBLISH
UID:d81c85c7-a43b-4dca-8581-f33ef8e85d05
X-WR-CALNAME:iCagenda
X-WR-CALDESC:Event Management Extension for Joomla!
X-WR-RELCALID:3E26604A-50F4-4449-8B3E-E4F4932D05B5
X-WR-TIMEZONE:UTC
BEGIN:VTIMEZONE
TZID:UTC
END:VTIMEZONE
BEGIN:VEVENT
UID:1790381d-feca-4e81-97d4-af2596385c28
DTSTAMP:20260423T192741Z
CATEGORIES:Hallenbelegung
CLASS:PUBLIC
DESCRIPTION;ALTREP="CID:<FFFF__=0ABBE548DFE235B58f9e8a93d@coffeebean.com>":
 das Seniorenturnen findet jeden Dienstag von 16.30 Uhr bis 17:30 Uhr statt
DTSTART:20231010T090000Z
DTEND:20231010T100000Z
GEO:00;0
LOCATION:Dorfgemeinschaftshalle Oberahr
ORGANIZER;CN=:Anke.Wedel@freenet.de
SEQUENCE:1
SUMMARY:Seniorenturnen DGV Oberahr
TRANSP:OPAQUE
URL:https://www.oberahr.de/component/icagenda/96-seniorenturnen-dgv-oberahr
 /2023-10-10-09-00
END:VEVENT
END:VCALENDAR
