BEGIN:VCALENDAR
VERSION:2.0
PRODID:-//Gemeinde Oberahr / Westerwald//NONSGML kigkonsult.se iCalcreator 
 2.30.10//
CALSCALE:GREGORIAN
METHOD:PUBLISH
UID:71bf1a4b-a3b3-43ce-b1ea-67d28a6c708e
X-WR-CALNAME:iCagenda
X-WR-CALDESC:Event Management Extension for Joomla!
X-WR-RELCALID:3E26604A-50F4-4449-8B3E-E4F4932D05B5
X-WR-TIMEZONE:UTC
BEGIN:VTIMEZONE
TZID:UTC
END:VTIMEZONE
BEGIN:VEVENT
UID:fbd39cf3-b29b-4b0c-a8c2-2fb4c5b5fc89
DTSTAMP:20260425T172533Z
CATEGORIES:Hallenbelegung
CLASS:PUBLIC
DESCRIPTION;ALTREP="CID:<FFFF__=0ABBE548DFE235B58f9e8a93d@coffeebean.com>":
 Jeden zweiten Montag findet die Chorprobe des MGV 'Harmonie 1919' Oberahr 
 e.V. im Vereinsraum der DGH statt.
DTSTART:20241216T190000Z
DTEND:20241216T210000Z
GEO:00;0
LOCATION:Dorfgemeinschaftshalle Oberahr
ORGANIZER;CN=:karstenopper@gmx.de
SEQUENCE:1
SUMMARY:MGV Chorprobe
TRANSP:OPAQUE
URL:https://www.oberahr.de/component/icagenda/95-mgv-chorprobe/2024-12-16-1
 9-00
END:VEVENT
END:VCALENDAR
