BEGIN:VCALENDAR
VERSION:2.0
PRODID:-//Gemeinde Oberahr / Westerwald//NONSGML kigkonsult.se iCalcreator 
 2.30.10//
CALSCALE:GREGORIAN
METHOD:PUBLISH
UID:4f2e7897-bd5b-4c49-ba23-d09a26806f7d
X-WR-CALNAME:iCagenda
X-WR-CALDESC:Event Management Extension for Joomla!
X-WR-RELCALID:3E26604A-50F4-4449-8B3E-E4F4932D05B5
X-WR-TIMEZONE:UTC
BEGIN:VTIMEZONE
TZID:UTC
END:VTIMEZONE
BEGIN:VEVENT
UID:37f93d2e-650b-4b97-a9dc-4cd559407633
DTSTAMP:20260426T014157Z
CATEGORIES:Hallenbelegung
CLASS:PUBLIC
DESCRIPTION:
DTSTART:20250303T190000Z
DTEND:20250303T203000Z
GEO:00;0
LOCATION:Dorfgemeinschaftshalle Oberahr
ORGANIZER;CN=:Anke.Wedel@freenet.de
SEQUENCE:1
SUMMARY:Damengymnastikverein Oberahr
TRANSP:OPAQUE
URL:https://www.oberahr.de/component/icagenda/94-damengymnastikverein-obera
 hr/2025-03-03-19-00
END:VEVENT
END:VCALENDAR
