BEGIN:VCALENDAR
VERSION:2.0
PRODID:-//Gemeinde Oberahr / Westerwald//NONSGML kigkonsult.se iCalcreator 
 2.30.10//
CALSCALE:GREGORIAN
METHOD:PUBLISH
UID:980941c7-dd0e-4811-8473-ba9f0d1124f2
X-WR-CALNAME:iCagenda
X-WR-CALDESC:Event Management Extension for Joomla!
X-WR-RELCALID:3E26604A-50F4-4449-8B3E-E4F4932D05B5
X-WR-TIMEZONE:UTC
BEGIN:VTIMEZONE
TZID:UTC
END:VTIMEZONE
BEGIN:VEVENT
UID:ae20b313-cc47-4efe-8dea-c60287e52a0a
DTSTAMP:20260424T120704Z
CATEGORIES:Hallenbelegung
CLASS:PUBLIC
DESCRIPTION:
DTSTART:20220620T190000Z
DTEND:20220620T203000Z
GEO:00;0
LOCATION:Dorfgemeinschaftshalle Oberahr
ORGANIZER;CN=:Anke.Wedel@freenet.de
SEQUENCE:1
SUMMARY:Damengymnastikverein Oberahr
TRANSP:OPAQUE
URL:https://www.oberahr.de/component/icagenda/94-damengymnastikverein-obera
 hr/2022-06-20-19-00
END:VEVENT
END:VCALENDAR
