BEGIN:VCALENDAR
VERSION:2.0
PRODID:-//Gemeinde Oberahr / Westerwald//NONSGML kigkonsult.se iCalcreator 
 2.30.10//
CALSCALE:GREGORIAN
METHOD:PUBLISH
UID:76297c36-af3b-431b-a306-f2a9bc848187
X-WR-CALNAME:iCagenda
X-WR-CALDESC:Event Management Extension for Joomla!
X-WR-RELCALID:3E26604A-50F4-4449-8B3E-E4F4932D05B5
X-WR-TIMEZONE:UTC
BEGIN:VTIMEZONE
TZID:UTC
END:VTIMEZONE
BEGIN:VEVENT
UID:e9a67e22-8dc9-4acd-81c7-c01a2151e3eb
DTSTAMP:20260425T041537Z
CATEGORIES:Hallenbelegung
CLASS:PUBLIC
DESCRIPTION:
DTSTART:20211122T190000Z
DTEND:20211122T203000Z
GEO:00;0
LOCATION:Dorfgemeinschaftshalle Oberahr
ORGANIZER;CN=:Anke.Wedel@freenet.de
SEQUENCE:1
SUMMARY:Damengymnastikverein Oberahr
TRANSP:OPAQUE
URL:https://www.oberahr.de/component/icagenda/94-damengymnastikverein-obera
 hr/2021-11-22-19-00
END:VEVENT
END:VCALENDAR
