BEGIN:VCALENDAR
VERSION:2.0
PRODID:-//Gemeinde Oberahr / Westerwald//NONSGML kigkonsult.se iCalcreator 
 2.30.10//
CALSCALE:GREGORIAN
METHOD:PUBLISH
UID:ac4b941d-5191-4a91-9d76-1f17466946f8
X-WR-CALNAME:iCagenda
X-WR-CALDESC:Event Management Extension for Joomla!
X-WR-RELCALID:3E26604A-50F4-4449-8B3E-E4F4932D05B5
X-WR-TIMEZONE:UTC
BEGIN:VTIMEZONE
TZID:UTC
END:VTIMEZONE
BEGIN:VEVENT
UID:d7266c20-4a6f-4b79-b0e8-44c03e8f47d9
DTSTAMP:20260425T163044Z
CATEGORIES:Hallenbelegung
CLASS:PUBLIC
DESCRIPTION:
DTSTART:20210621T190000Z
DTEND:20210621T203000Z
GEO:00;0
LOCATION:Dorfgemeinschaftshalle Oberahr
ORGANIZER;CN=:Anke.Wedel@freenet.de
SEQUENCE:1
SUMMARY:Damengymnastikverein Oberahr
TRANSP:OPAQUE
URL:https://www.oberahr.de/component/icagenda/94-damengymnastikverein-obera
 hr/2021-06-21-19-00
END:VEVENT
END:VCALENDAR
