BEGIN:VCALENDAR
VERSION:2.0
PRODID:-//Gemeinde Oberahr / Westerwald//NONSGML kigkonsult.se iCalcreator 
 2.30.10//
CALSCALE:GREGORIAN
METHOD:PUBLISH
UID:6c03c2af-60c8-4092-804d-e9e41cf90923
X-WR-CALNAME:iCagenda
X-WR-CALDESC:Event Management Extension for Joomla!
X-WR-RELCALID:3E26604A-50F4-4449-8B3E-E4F4932D05B5
X-WR-TIMEZONE:UTC
BEGIN:VTIMEZONE
TZID:UTC
END:VTIMEZONE
BEGIN:VEVENT
UID:5a53bdd4-dd06-443f-bf78-17e690ae9006
DTSTAMP:20260422T094829Z
CATEGORIES:Veranstaltungen
CLASS:PUBLIC
DESCRIPTION:
DTSTART:20201206T070000Z
DTEND:20201206T235900Z
GEO:00;0
LOCATION:
ORGANIZER:
SEQUENCE:1
SUMMARY:Private Feier
TRANSP:OPAQUE
URL:https://www.oberahr.de/component/icagenda/84-private-feier
END:VEVENT
END:VCALENDAR
