BEGIN:VCALENDAR
VERSION:2.0
PRODID:-//Gemeinde Oberahr / Westerwald//NONSGML kigkonsult.se iCalcreator 
 2.30.10//
CALSCALE:GREGORIAN
METHOD:PUBLISH
UID:6282226b-b9e1-4496-a3ed-c66e85730a02
X-WR-CALNAME:iCagenda
X-WR-CALDESC:Event Management Extension for Joomla!
X-WR-RELCALID:3E26604A-50F4-4449-8B3E-E4F4932D05B5
X-WR-TIMEZONE:UTC
BEGIN:VTIMEZONE
TZID:UTC
END:VTIMEZONE
BEGIN:VEVENT
UID:d8ee578b-5980-438d-a82c-74803760bf5f
DTSTAMP:20260422T131356Z
CATEGORIES:Veranstaltungen
CLASS:PUBLIC
DESCRIPTION:
DTSTART:20251108T145800Z
DTEND:20251108T145800Z
GEO:00;0
LOCATION:Dorfgemeinschaftshalle
ORGANIZER:
SEQUENCE:1
SUMMARY:Tag des Kinderturnens
TRANSP:OPAQUE
URL:https://www.oberahr.de/component/icagenda/238-tag-des-kinderturnens/202
 5-11-08-14-58
END:VEVENT
END:VCALENDAR
