BEGIN:VCALENDAR
VERSION:2.0
PRODID:-//Gemeinde Oberahr / Westerwald//NONSGML kigkonsult.se iCalcreator 
 2.30.10//
CALSCALE:GREGORIAN
METHOD:PUBLISH
UID:e80edd31-9edf-4f8d-be91-450d7311e469
X-WR-CALNAME:iCagenda
X-WR-CALDESC:Event Management Extension for Joomla!
X-WR-RELCALID:3E26604A-50F4-4449-8B3E-E4F4932D05B5
X-WR-TIMEZONE:UTC
BEGIN:VTIMEZONE
TZID:UTC
END:VTIMEZONE
BEGIN:VEVENT
UID:0182f129-5114-4003-a631-d6408d39e27e
DTSTAMP:20260420T091922Z
CATEGORIES:Hallenbelegung
CLASS:PUBLIC
DESCRIPTION:
DTSTART:20250829T080700Z
DTEND:20250829T080700Z
GEO:00;0
LOCATION:Nebenraum und Küche DGH
ORGANIZER:
SEQUENCE:1
SUMMARY:Private Feier Bernstein
TRANSP:OPAQUE
URL:https://www.oberahr.de/component/icagenda/235-private-feier-bernstein-2
 /2025-08-29-08-07
END:VEVENT
END:VCALENDAR
