BEGIN:VCALENDAR
VERSION:2.0
PRODID:-//Gemeinde Oberahr / Westerwald//NONSGML kigkonsult.se iCalcreator 
 2.30.10//
CALSCALE:GREGORIAN
METHOD:PUBLISH
UID:2040445e-80e8-49d5-97ea-97d1c353de98
X-WR-CALNAME:iCagenda
X-WR-CALDESC:Event Management Extension for Joomla!
X-WR-RELCALID:3E26604A-50F4-4449-8B3E-E4F4932D05B5
X-WR-TIMEZONE:UTC
BEGIN:VTIMEZONE
TZID:UTC
END:VTIMEZONE
BEGIN:VEVENT
UID:31c7f457-3217-4744-a6c1-d84920df12b4
DTSTAMP:20260420T100642Z
CATEGORIES:Veranstaltungen
CLASS:PUBLIC
DESCRIPTION:
DTSTART:20251002T000000Z
DTEND:20251002T000000Z
GEO:00;0
LOCATION:Dorfgemeinschaftshalle
ORGANIZER:
SEQUENCE:1
SUMMARY:TuS Würfelturnier
TRANSP:OPAQUE
URL:https://www.oberahr.de/component/icagenda/233-tus-wuerfelturnier/2025-1
 0-02-00-00
END:VEVENT
END:VCALENDAR
