BEGIN:VCALENDAR
VERSION:2.0
PRODID:-//Gemeinde Oberahr / Westerwald//NONSGML kigkonsult.se iCalcreator 
 2.30.10//
CALSCALE:GREGORIAN
METHOD:PUBLISH
UID:7ffda7cf-8b6c-4452-8b7f-f7e28297a66f
X-WR-CALNAME:iCagenda
X-WR-CALDESC:Event Management Extension for Joomla!
X-WR-RELCALID:3E26604A-50F4-4449-8B3E-E4F4932D05B5
X-WR-TIMEZONE:UTC
BEGIN:VTIMEZONE
TZID:UTC
END:VTIMEZONE
BEGIN:VEVENT
UID:7ca9f137-711a-4f11-822f-39ad89a6e484
DTSTAMP:20260422T103740Z
CATEGORIES:Veranstaltungen
CLASS:PUBLIC
DESCRIPTION:
DTSTART:20250831T000000Z
DTEND:20250831T000000Z
GEO:00;0
LOCATION:Dorfgemeinschaftshalle
ORGANIZER:
SEQUENCE:1
SUMMARY:TuS Familientag
TRANSP:OPAQUE
URL:https://www.oberahr.de/component/icagenda/231-tus-familientag/2025-08-3
 1-00-00
END:VEVENT
END:VCALENDAR
