BEGIN:VCALENDAR
VERSION:2.0
PRODID:-//Gemeinde Oberahr / Westerwald//NONSGML kigkonsult.se iCalcreator 
 2.30.10//
CALSCALE:GREGORIAN
METHOD:PUBLISH
UID:c39ab167-4402-42ac-b070-fd1862402500
X-WR-CALNAME:iCagenda
X-WR-CALDESC:Event Management Extension for Joomla!
X-WR-RELCALID:3E26604A-50F4-4449-8B3E-E4F4932D05B5
X-WR-TIMEZONE:UTC
BEGIN:VTIMEZONE
TZID:UTC
END:VTIMEZONE
BEGIN:VEVENT
UID:d0befedd-502f-4a3f-8dc1-2b91e4b9b152
DTSTAMP:20260423T131808Z
CATEGORIES:Veranstaltungen
CLASS:PUBLIC
DESCRIPTION:
DTSTART:20250827T063200Z
DTEND:20250827T063200Z
GEO:00;0
LOCATION:Dorfgemeinschaftshalle Oberahr
ORGANIZER:
SEQUENCE:1
SUMMARY:Seniorenausflug
TRANSP:OPAQUE
URL:https://www.oberahr.de/component/icagenda/222-seniorenausflug/2025-08-2
 7-06-32
END:VEVENT
END:VCALENDAR
