BEGIN:VCALENDAR
VERSION:2.0
PRODID:-//Gemeinde Oberahr / Westerwald//NONSGML kigkonsult.se iCalcreator 
 2.30.10//
CALSCALE:GREGORIAN
METHOD:PUBLISH
UID:33c04b22-f0fa-412a-ae14-2d4324b228b0
X-WR-CALNAME:iCagenda
X-WR-CALDESC:Event Management Extension for Joomla!
X-WR-RELCALID:3E26604A-50F4-4449-8B3E-E4F4932D05B5
X-WR-TIMEZONE:UTC
BEGIN:VTIMEZONE
TZID:UTC
END:VTIMEZONE
BEGIN:VEVENT
UID:7b0639d5-8261-4f3c-8d38-8aa372735135
DTSTAMP:20260424T224540Z
CATEGORIES:Hallenbelegung
CLASS:PUBLIC
DESCRIPTION:
DTSTART:20251004T171800Z
DTEND:20251004T171800Z
GEO:00;0
LOCATION:Nebenraum und Küche DGH
ORGANIZER:
SEQUENCE:1
SUMMARY:Private Feier - Kaiser
TRANSP:OPAQUE
URL:https://www.oberahr.de/component/icagenda/215-private-feier-kaiser/2025
 -10-04-17-18
END:VEVENT
END:VCALENDAR
