BEGIN:VCALENDAR
VERSION:2.0
PRODID:-//Gemeinde Oberahr / Westerwald//NONSGML kigkonsult.se iCalcreator 
 2.30.10//
CALSCALE:GREGORIAN
METHOD:PUBLISH
UID:ca87e706-9acc-4e9d-93ba-34c1c87b09a8
X-WR-CALNAME:iCagenda
X-WR-CALDESC:Event Management Extension for Joomla!
X-WR-RELCALID:3E26604A-50F4-4449-8B3E-E4F4932D05B5
X-WR-TIMEZONE:UTC
BEGIN:VTIMEZONE
TZID:UTC
END:VTIMEZONE
BEGIN:VEVENT
UID:84c6ddf2-d006-4602-acf9-d014b5e4c0de
DTSTAMP:20260425T194919Z
CATEGORIES:Hallenbelegung
CLASS:PUBLIC
DESCRIPTION:
DTSTART:20250329T000000Z
DTEND:20250329T000000Z
GEO:+50.503269;+7.867136
LOCATION:Nebenraum DGH
ORGANIZER:
SEQUENCE:1
SUMMARY:Private Feier - Heibel
TRANSP:OPAQUE
URL:https://www.oberahr.de/component/icagenda/214-private-feier-heibel/2025
 -03-29-00-00
END:VEVENT
END:VCALENDAR
