BEGIN:VCALENDAR
VERSION:2.0
PRODID:-//Gemeinde Oberahr / Westerwald//NONSGML kigkonsult.se iCalcreator 
 2.30.10//
CALSCALE:GREGORIAN
METHOD:PUBLISH
UID:fa41c75f-5d12-47fc-9983-07a7206f4e4c
X-WR-CALNAME:iCagenda
X-WR-CALDESC:Event Management Extension for Joomla!
X-WR-RELCALID:3E26604A-50F4-4449-8B3E-E4F4932D05B5
X-WR-TIMEZONE:UTC
BEGIN:VTIMEZONE
TZID:UTC
END:VTIMEZONE
BEGIN:VEVENT
UID:eeeac250-2fd2-4b9a-b6f3-217f1099d99f
DTSTAMP:20260420T015231Z
CATEGORIES:Hallenbelegung
CLASS:PUBLIC
DESCRIPTION:
DTSTART:20250525T000000Z
DTEND:20250525T235900Z
GEO:00;0
LOCATION:Dorfgemeinschaftshalle Oberahr
ORGANIZER:
SEQUENCE:1
SUMMARY:Hochzeitsfeier
TRANSP:OPAQUE
URL:https://www.oberahr.de/component/icagenda/195-hochzeitfeier
END:VEVENT
END:VCALENDAR
