BEGIN:VCALENDAR
VERSION:2.0
PRODID:-//Gemeinde Oberahr / Westerwald//NONSGML kigkonsult.se iCalcreator 
 2.30.10//
CALSCALE:GREGORIAN
METHOD:PUBLISH
UID:4bd22315-f208-4225-9bd3-8fd31c881bcd
X-WR-CALNAME:iCagenda
X-WR-CALDESC:Event Management Extension for Joomla!
X-WR-RELCALID:3E26604A-50F4-4449-8B3E-E4F4932D05B5
X-WR-TIMEZONE:UTC
BEGIN:VTIMEZONE
TZID:UTC
END:VTIMEZONE
BEGIN:VEVENT
UID:bdee5422-9716-4b3a-9cdb-fdfc84c57b8a
DTSTAMP:20260420T015206Z
CATEGORIES:Hallenbelegung
CLASS:PUBLIC
DESCRIPTION:
DTSTART:20250502T000000Z
DTEND:20250502T235900Z
GEO:00;0
LOCATION:
ORGANIZER:
SEQUENCE:1
SUMMARY:Private Feier Julia Müller und Markus Lotz
TRANSP:OPAQUE
URL:https://www.oberahr.de/component/icagenda/194-private-feier-julia-muell
 er-und-markus-lotz
END:VEVENT
END:VCALENDAR
