BEGIN:VCALENDAR
VERSION:2.0
PRODID:-//Gemeinde Oberahr / Westerwald//NONSGML kigkonsult.se iCalcreator 
 2.30.10//
CALSCALE:GREGORIAN
METHOD:PUBLISH
UID:66adc39e-2886-4c78-ae9b-aac8837d8c60
X-WR-CALNAME:iCagenda
X-WR-CALDESC:Event Management Extension for Joomla!
X-WR-RELCALID:3E26604A-50F4-4449-8B3E-E4F4932D05B5
X-WR-TIMEZONE:UTC
BEGIN:VTIMEZONE
TZID:UTC
END:VTIMEZONE
BEGIN:VEVENT
UID:9fc837b9-c3b3-443b-acc5-509099846c47
DTSTAMP:20260420T015147Z
CATEGORIES:Hallenbelegung
CLASS:PUBLIC
DESCRIPTION:
DTSTART:20240803T000000Z
DTEND:20240804T235900Z
GEO:00;0
LOCATION:Nebenraum und Küche DGH
ORGANIZER:
SEQUENCE:1
SUMMARY:storniert
TRANSP:OPAQUE
URL:https://www.oberahr.de/component/icagenda/193-private-feier-jung
END:VEVENT
END:VCALENDAR
