BEGIN:VCALENDAR
VERSION:2.0
PRODID:-//Gemeinde Oberahr / Westerwald//NONSGML kigkonsult.se iCalcreator 
 2.30.10//
CALSCALE:GREGORIAN
METHOD:PUBLISH
UID:b4b0a1fd-13a9-4f16-9c24-837bfde34f5f
X-WR-CALNAME:iCagenda
X-WR-CALDESC:Event Management Extension for Joomla!
X-WR-RELCALID:3E26604A-50F4-4449-8B3E-E4F4932D05B5
X-WR-TIMEZONE:UTC
BEGIN:VTIMEZONE
TZID:UTC
END:VTIMEZONE
BEGIN:VEVENT
UID:103a1d41-4b2e-4f21-a1a1-6f3c2518bfd9
DTSTAMP:20260422T094949Z
CATEGORIES:Veranstaltungen
CLASS:PUBLIC
DESCRIPTION:
DTSTART:20241129T000000Z
DTEND:20241129T000000Z
GEO:00;0
LOCATION:Dorfgemeinschaftshalle Oberahr
ORGANIZER:
SEQUENCE:1
SUMMARY:Weihnachtsfeier DGV
TRANSP:OPAQUE
URL:https://www.oberahr.de/component/icagenda/181-weihnachtsfeier-dgv-2
END:VEVENT
END:VCALENDAR
