BEGIN:VCALENDAR
VERSION:2.0
PRODID:-//Gemeinde Oberahr / Westerwald//NONSGML kigkonsult.se iCalcreator 
 2.30.10//
CALSCALE:GREGORIAN
METHOD:PUBLISH
UID:965627ea-dc3c-44f1-95b6-793fae6c5011
X-WR-CALNAME:iCagenda
X-WR-CALDESC:Event Management Extension for Joomla!
X-WR-RELCALID:3E26604A-50F4-4449-8B3E-E4F4932D05B5
X-WR-TIMEZONE:UTC
BEGIN:VTIMEZONE
TZID:UTC
END:VTIMEZONE
BEGIN:VEVENT
UID:eb220d8a-8b8b-46e6-b232-e3c319b4dc4e
DTSTAMP:20260423T201705Z
CATEGORIES:Veranstaltungen
CLASS:PUBLIC
DESCRIPTION:
DTSTART:20240329T000000Z
DTEND:20240329T000000Z
GEO:00;0
LOCATION:
ORGANIZER:
SEQUENCE:1
SUMMARY:Forellenräuchern des ASV
TRANSP:OPAQUE
URL:https://www.oberahr.de/component/icagenda/171-traditionelles-forellenra
 euchern
END:VEVENT
END:VCALENDAR
