BEGIN:VCALENDAR
VERSION:2.0
PRODID:-//Gemeinde Oberahr / Westerwald//NONSGML kigkonsult.se iCalcreator 
 2.30.10//
CALSCALE:GREGORIAN
METHOD:PUBLISH
UID:256c47ee-7a80-4566-869e-73c168d4a2f7
X-WR-CALNAME:iCagenda
X-WR-CALDESC:Event Management Extension for Joomla!
X-WR-RELCALID:3E26604A-50F4-4449-8B3E-E4F4932D05B5
X-WR-TIMEZONE:UTC
BEGIN:VTIMEZONE
TZID:UTC
END:VTIMEZONE
BEGIN:VEVENT
UID:e3a2ea21-aeec-4262-af74-d345743ab5c7
DTSTAMP:20260420T090336Z
CATEGORIES:Hallenbelegung
CLASS:PUBLIC
DESCRIPTION:
DTSTART:20240322T200000Z
DTEND:20240322T220000Z
GEO:00;0
LOCATION:Nebenraum DGH
ORGANIZER:
SEQUENCE:1
SUMMARY:JHV TuS
TRANSP:OPAQUE
URL:https://www.oberahr.de/component/icagenda/167-jhv-tus-2
END:VEVENT
END:VCALENDAR
