BEGIN:VCALENDAR
VERSION:2.0
PRODID:-//Gemeinde Oberahr / Westerwald//NONSGML kigkonsult.se iCalcreator 
 2.30.10//
CALSCALE:GREGORIAN
METHOD:PUBLISH
UID:86f0e02a-8636-4218-bc7f-97ceb80c85f4
X-WR-CALNAME:iCagenda
X-WR-CALDESC:Event Management Extension for Joomla!
X-WR-RELCALID:3E26604A-50F4-4449-8B3E-E4F4932D05B5
X-WR-TIMEZONE:UTC
BEGIN:VTIMEZONE
TZID:UTC
END:VTIMEZONE
BEGIN:VEVENT
UID:4d795c4f-ef83-4d16-ba59-211fc723f06d
DTSTAMP:20260424T121333Z
CATEGORIES:Hallenbelegung
CLASS:PUBLIC
DESCRIPTION:
DTSTART:20241012T000000Z
DTEND:20241013T000000Z
GEO:00;0
LOCATION:
ORGANIZER:
SEQUENCE:1
SUMMARY:Feier Opper
TRANSP:OPAQUE
URL:https://www.oberahr.de/component/icagenda/166-feier-opper?iccaldate=202
 6-5-1
END:VEVENT
END:VCALENDAR
