BEGIN:VCALENDAR
VERSION:2.0
PRODID:-//Gemeinde Oberahr / Westerwald//NONSGML kigkonsult.se iCalcreator 
 2.30.10//
CALSCALE:GREGORIAN
METHOD:PUBLISH
UID:0c7a7d50-0acd-4d25-a1c2-b010cc2b2120
X-WR-CALNAME:iCagenda
X-WR-CALDESC:Event Management Extension for Joomla!
X-WR-RELCALID:3E26604A-50F4-4449-8B3E-E4F4932D05B5
X-WR-TIMEZONE:UTC
BEGIN:VTIMEZONE
TZID:UTC
END:VTIMEZONE
BEGIN:VEVENT
UID:16180d54-db5a-4ee4-8385-3363dbab87cd
DTSTAMP:20260420T095926Z
CATEGORIES:Hallenbelegung
CLASS:PUBLIC
DESCRIPTION:
DTSTART:20240127T000000Z
DTEND:20240127T235900Z
GEO:00;0
LOCATION:Dorfgemeinschaftshalle Oberahr
ORGANIZER:
SEQUENCE:1
SUMMARY:Private Feier - Bernd
TRANSP:OPAQUE
URL:https://www.oberahr.de/component/icagenda/164-private-feier-bernd
END:VEVENT
END:VCALENDAR
