BEGIN:VCALENDAR
VERSION:2.0
PRODID:-//Gemeinde Oberahr / Westerwald//NONSGML kigkonsult.se iCalcreator 
 2.30.10//
CALSCALE:GREGORIAN
METHOD:PUBLISH
UID:7a18cfc3-dc95-4017-83cb-c417b8221b56
X-WR-CALNAME:iCagenda
X-WR-CALDESC:Event Management Extension for Joomla!
X-WR-RELCALID:3E26604A-50F4-4449-8B3E-E4F4932D05B5
X-WR-TIMEZONE:UTC
BEGIN:VTIMEZONE
TZID:UTC
END:VTIMEZONE
BEGIN:VEVENT
UID:6332f3a4-093f-4cca-ada5-afb66dfbd0cc
DTSTAMP:20260420T125249Z
CATEGORIES:Hallenbelegung
CLASS:PUBLIC
DESCRIPTION:
DTSTART:20230421T200000Z
DTEND:20230421T230000Z
GEO:00;0
LOCATION:Nebenraum DGH
ORGANIZER;CN=:michael_foitzik@hotmail.com
SEQUENCE:1
SUMMARY:JHV TuS
TRANSP:OPAQUE
URL:https://www.oberahr.de/component/icagenda/146-jhv-tus
END:VEVENT
END:VCALENDAR
