BEGIN:VCALENDAR
VERSION:2.0
PRODID:-//Gemeinde Oberahr / Westerwald//NONSGML kigkonsult.se iCalcreator 
 2.30.10//
CALSCALE:GREGORIAN
METHOD:PUBLISH
UID:8dd7a32a-8f13-4c93-8f2f-4f9d97076e00
X-WR-CALNAME:iCagenda
X-WR-CALDESC:Event Management Extension for Joomla!
X-WR-RELCALID:3E26604A-50F4-4449-8B3E-E4F4932D05B5
X-WR-TIMEZONE:UTC
BEGIN:VTIMEZONE
TZID:UTC
END:VTIMEZONE
BEGIN:VEVENT
UID:0770aa36-82a9-4348-9782-9fed458aa597
DTSTAMP:20260423T114901Z
CATEGORIES:Hallenbelegung
CLASS:PUBLIC
DESCRIPTION:
DTSTART:20230822T190000Z
DTEND:20230822T200000Z
GEO:00;0
LOCATION:Dorfgemeinschaftshalle Oberahr
ORGANIZER:
SEQUENCE:1
SUMMARY:TUS - Stepairobic
TRANSP:OPAQUE
URL:https://www.oberahr.de/component/icagenda/143-tus-stepairobic/2023-08-2
 2-19-00
END:VEVENT
END:VCALENDAR
