BEGIN:VCALENDAR
VERSION:2.0
PRODID:-//Gemeinde Oberahr / Westerwald//NONSGML kigkonsult.se iCalcreator 
 2.30.10//
CALSCALE:GREGORIAN
METHOD:PUBLISH
UID:30ef5bee-77ac-48a1-8a0d-f5384f546753
X-WR-CALNAME:iCagenda
X-WR-CALDESC:Event Management Extension for Joomla!
X-WR-RELCALID:3E26604A-50F4-4449-8B3E-E4F4932D05B5
X-WR-TIMEZONE:UTC
BEGIN:VTIMEZONE
TZID:UTC
END:VTIMEZONE
BEGIN:VEVENT
UID:57373d7c-4f6a-4e54-866f-5cfd4c200c1f
DTSTAMP:20260425T023921Z
CATEGORIES:Hallenbelegung
CLASS:PUBLIC
DESCRIPTION:
DTSTART:20230510T170000Z
DTEND:20230510T190000Z
GEO:00;0
LOCATION:Dorfgemeinschaftshalle Oberahr
ORGANIZER:
SEQUENCE:1
SUMMARY:TUS Niederahr - F-Jugend
TRANSP:OPAQUE
URL:https://www.oberahr.de/component/icagenda/139-tus-niederahr-f-jugend/20
 23-05-10-17-00
END:VEVENT
END:VCALENDAR
