BEGIN:VCALENDAR
VERSION:2.0
PRODID:-//Gemeinde Oberahr / Westerwald//NONSGML kigkonsult.se iCalcreator 
 2.30.10//
CALSCALE:GREGORIAN
METHOD:PUBLISH
UID:d34ee341-55f3-4128-8017-41f4fa569dd5
X-WR-CALNAME:iCagenda
X-WR-CALDESC:Event Management Extension for Joomla!
X-WR-RELCALID:3E26604A-50F4-4449-8B3E-E4F4932D05B5
X-WR-TIMEZONE:UTC
BEGIN:VTIMEZONE
TZID:UTC
END:VTIMEZONE
BEGIN:VEVENT
UID:806fd22e-3e0f-46ac-8df8-498138f7affc
DTSTAMP:20260420T184853Z
CATEGORIES:Hallenbelegung
CLASS:PUBLIC
DESCRIPTION:
DTSTART:20230301T170000Z
DTEND:20230301T190000Z
GEO:00;0
LOCATION:Dorfgemeinschaftshalle Oberahr
ORGANIZER:
SEQUENCE:1
SUMMARY:TUS Niederahr - F-Jugend
TRANSP:OPAQUE
URL:https://www.oberahr.de/component/icagenda/139-tus-niederahr-f-jugend/20
 23-03-01-17-00
END:VEVENT
END:VCALENDAR
