BEGIN:VCALENDAR
VERSION:2.0
PRODID:-//Gemeinde Oberahr / Westerwald//NONSGML kigkonsult.se iCalcreator 
 2.30.10//
CALSCALE:GREGORIAN
METHOD:PUBLISH
UID:0564c419-04c3-4f66-b055-25817cd7e3e0
X-WR-CALNAME:iCagenda
X-WR-CALDESC:Event Management Extension for Joomla!
X-WR-RELCALID:3E26604A-50F4-4449-8B3E-E4F4932D05B5
X-WR-TIMEZONE:UTC
BEGIN:VTIMEZONE
TZID:UTC
END:VTIMEZONE
BEGIN:VEVENT
UID:e8edea5b-ec3a-4d27-952b-1b7e6698cd23
DTSTAMP:20260419T231345Z
CATEGORIES:Hallenbelegung
CLASS:PUBLIC
DESCRIPTION:
DTSTART:20230208T170000Z
DTEND:20230208T190000Z
GEO:00;0
LOCATION:Dorfgemeinschaftshalle Oberahr
ORGANIZER:
SEQUENCE:1
SUMMARY:TUS Niederahr - F-Jugend
TRANSP:OPAQUE
URL:https://www.oberahr.de/component/icagenda/139-tus-niederahr-f-jugend/20
 23-02-08-17-00
END:VEVENT
END:VCALENDAR
