BEGIN:VCALENDAR
VERSION:2.0
PRODID:-//Gemeinde Oberahr / Westerwald//NONSGML kigkonsult.se iCalcreator 
 2.30.10//
CALSCALE:GREGORIAN
METHOD:PUBLISH
UID:60992d94-135e-4888-95d8-9f8c188adc21
X-WR-CALNAME:iCagenda
X-WR-CALDESC:Event Management Extension for Joomla!
X-WR-RELCALID:3E26604A-50F4-4449-8B3E-E4F4932D05B5
X-WR-TIMEZONE:UTC
BEGIN:VTIMEZONE
TZID:UTC
END:VTIMEZONE
BEGIN:VEVENT
UID:84138571-788b-4e24-8edf-230b73c43f1a
DTSTAMP:20260420T125254Z
CATEGORIES:Hallenbelegung
CLASS:PUBLIC
DESCRIPTION:
DTSTART:20230303T162900Z
DTEND:20230303T163000Z
GEO:00;0
LOCATION:
ORGANIZER:
SEQUENCE:1
SUMMARY:JHV DGV
TRANSP:OPAQUE
URL:https://www.oberahr.de/component/icagenda/138-jhv-dgv
END:VEVENT
END:VCALENDAR
