BEGIN:VCALENDAR
VERSION:2.0
PRODID:-//Gemeinde Oberahr / Westerwald//NONSGML kigkonsult.se iCalcreator 
 2.30.10//
CALSCALE:GREGORIAN
METHOD:PUBLISH
UID:c59b4e55-5119-462f-b73d-6f5606c99c1f
X-WR-CALNAME:iCagenda
X-WR-CALDESC:Event Management Extension for Joomla!
X-WR-RELCALID:3E26604A-50F4-4449-8B3E-E4F4932D05B5
X-WR-TIMEZONE:UTC
BEGIN:VTIMEZONE
TZID:UTC
END:VTIMEZONE
BEGIN:VEVENT
UID:21a10372-3541-4d57-a698-6e17724a40fa
DTSTAMP:20260423T114850Z
CATEGORIES:Hallenbelegung
CLASS:PUBLIC
DESCRIPTION;ALTREP="CID:<FFFF__=0ABBE548DFE235B58f9e8a93d@coffeebean.com>":
 Der TUS Oberahr möchte an diesem tag seine alljährlich Wanderung durchführ
 en.
DTSTART:20221229T174400Z
DTEND:20221229T234400Z
GEO:00;0
LOCATION:Dorfgemeinschaftshalle Oberahr
ORGANIZER:
SEQUENCE:1
SUMMARY:Wanderung zwischen den Jahren
TRANSP:OPAQUE
URL:https://www.oberahr.de/component/icagenda/133-wanderung-zwischen-den-ja
 hren
END:VEVENT
END:VCALENDAR
