BEGIN:VCALENDAR
VERSION:2.0
PRODID:-//Gemeinde Oberahr / Westerwald//NONSGML kigkonsult.se iCalcreator 
 2.30.10//
CALSCALE:GREGORIAN
METHOD:PUBLISH
UID:2ac39aea-ede0-405f-963b-6d9bc7c9f4f5
X-WR-CALNAME:iCagenda
X-WR-CALDESC:Event Management Extension for Joomla!
X-WR-RELCALID:3E26604A-50F4-4449-8B3E-E4F4932D05B5
X-WR-TIMEZONE:UTC
BEGIN:VTIMEZONE
TZID:UTC
END:VTIMEZONE
BEGIN:VEVENT
UID:1398d8d8-1875-4cf4-b269-8844506e6d9f
DTSTAMP:20260422T084014Z
CATEGORIES:Veranstaltungen
CLASS:PUBLIC
DESCRIPTION:
DTSTART:20221002T000100Z
DTEND:20221002T235900Z
GEO:00;0
LOCATION:Dorfgemeinschaftshalle Oberahr
ORGANIZER;CN=:michael_foitzik@hotmail.com
SEQUENCE:1
SUMMARY:Würfelturnier des TUS Oberahr
TRANSP:OPAQUE
URL:https://www.oberahr.de/component/icagenda/131-wuerfelturnier-des-tus-ob
 erahr
END:VEVENT
END:VCALENDAR
