BEGIN:VCALENDAR
VERSION:2.0
PRODID:-//Gemeinde Oberahr / Westerwald//NONSGML kigkonsult.se iCalcreator 
 2.30.10//
CALSCALE:GREGORIAN
METHOD:PUBLISH
UID:c9711d45-304a-4a07-856d-4bcbbc3b4040
X-WR-CALNAME:iCagenda
X-WR-CALDESC:Event Management Extension for Joomla!
X-WR-RELCALID:3E26604A-50F4-4449-8B3E-E4F4932D05B5
X-WR-TIMEZONE:UTC
BEGIN:VTIMEZONE
TZID:UTC
END:VTIMEZONE
BEGIN:VEVENT
UID:b42dc151-9fba-4f56-a74c-8d9a605b33f6
DTSTAMP:20260419T175906Z
CATEGORIES:Hallenbelegung
CLASS:PUBLIC
DESCRIPTION:
DTSTART:20231027T163000Z
DTEND:20231027T163000Z
GEO:00;0
LOCATION:
ORGANIZER:
SEQUENCE:1
SUMMARY:TUS Niederahr --  Bambini Training
TRANSP:OPAQUE
URL:https://www.oberahr.de/component/icagenda/125-tus-niederahr-bambini-tra
 ining/2023-10-27-16-30
END:VEVENT
END:VCALENDAR
