BEGIN:VCALENDAR
VERSION:2.0
PRODID:-//Gemeinde Oberahr / Westerwald//NONSGML kigkonsult.se iCalcreator 
 2.30.10//
CALSCALE:GREGORIAN
METHOD:PUBLISH
UID:c6679963-bfa2-42d2-bef4-37c5d4b19748
X-WR-CALNAME:iCagenda
X-WR-CALDESC:Event Management Extension for Joomla!
X-WR-RELCALID:3E26604A-50F4-4449-8B3E-E4F4932D05B5
X-WR-TIMEZONE:UTC
BEGIN:VTIMEZONE
TZID:UTC
END:VTIMEZONE
BEGIN:VEVENT
UID:9f64dad9-fee6-41f3-a10a-59b75053dbcc
DTSTAMP:20260419T164702Z
CATEGORIES:Hallenbelegung
CLASS:PUBLIC
DESCRIPTION:
DTSTART:20230317T163000Z
DTEND:20230317T163000Z
GEO:00;0
LOCATION:
ORGANIZER:
SEQUENCE:1
SUMMARY:TUS Niederahr --  Bambini Training
TRANSP:OPAQUE
URL:https://www.oberahr.de/component/icagenda/125-tus-niederahr-bambini-tra
 ining/2023-03-17-16-30
END:VEVENT
END:VCALENDAR
