BEGIN:VCALENDAR
VERSION:2.0
PRODID:-//Gemeinde Oberahr / Westerwald//NONSGML kigkonsult.se iCalcreator 
 2.30.10//
CALSCALE:GREGORIAN
METHOD:PUBLISH
UID:94004a72-fe68-439e-ad4a-0171cb87fda5
X-WR-CALNAME:iCagenda
X-WR-CALDESC:Event Management Extension for Joomla!
X-WR-RELCALID:3E26604A-50F4-4449-8B3E-E4F4932D05B5
X-WR-TIMEZONE:UTC
BEGIN:VTIMEZONE
TZID:UTC
END:VTIMEZONE
BEGIN:VEVENT
UID:9290c780-edcb-43f3-93ad-3963517c8562
DTSTAMP:20260423T105408Z
CATEGORIES:Hallenbelegung
CLASS:PUBLIC
DESCRIPTION:
DTSTART:20211203T163000Z
DTEND:20211203T163000Z
GEO:00;0
LOCATION:
ORGANIZER:
SEQUENCE:1
SUMMARY:TUS Niederahr --  Bambini Training
TRANSP:OPAQUE
URL:https://www.oberahr.de/component/icagenda/125-tus-niederahr-bambini-tra
 ining/2021-12-03-16-30
END:VEVENT
END:VCALENDAR
