BEGIN:VCALENDAR
VERSION:2.0
PRODID:-//Gemeinde Oberahr / Westerwald//NONSGML kigkonsult.se iCalcreator 
 2.30.10//
CALSCALE:GREGORIAN
METHOD:PUBLISH
UID:1d00e494-c541-44f9-8dca-6650d6ebfce8
X-WR-CALNAME:iCagenda
X-WR-CALDESC:Event Management Extension for Joomla!
X-WR-RELCALID:3E26604A-50F4-4449-8B3E-E4F4932D05B5
X-WR-TIMEZONE:UTC
BEGIN:VTIMEZONE
TZID:UTC
END:VTIMEZONE
BEGIN:VEVENT
UID:72cdd96e-8c99-4d96-a966-4340dc651e24
DTSTAMP:20260419T204048Z
CATEGORIES:Hallenbelegung
CLASS:PUBLIC
DESCRIPTION;ALTREP="CID:<FFFF__=0ABBE548DFE235B58f9e8a93d@coffeebean.com>":
 Senioren Volleyball des TUS Oberahr
DTSTART:20230213T170000Z
DTEND:20230213T170000Z
GEO:00;0
LOCATION:
ORGANIZER:
SEQUENCE:1
SUMMARY:TUS Senioren Volleyball
TRANSP:OPAQUE
URL:https://www.oberahr.de/component/icagenda/124-tus-senioren-volleyball/2
 023-02-13-17-00
END:VEVENT
END:VCALENDAR
