BEGIN:VCALENDAR
VERSION:2.0
PRODID:-//Gemeinde Oberahr / Westerwald//NONSGML kigkonsult.se iCalcreator 
 2.30.10//
CALSCALE:GREGORIAN
METHOD:PUBLISH
UID:c0c587a3-c650-4fde-b7ca-c8becf9ddfea
X-WR-CALNAME:iCagenda
X-WR-CALDESC:Event Management Extension for Joomla!
X-WR-RELCALID:3E26604A-50F4-4449-8B3E-E4F4932D05B5
X-WR-TIMEZONE:UTC
BEGIN:VTIMEZONE
TZID:UTC
END:VTIMEZONE
BEGIN:VEVENT
UID:d1aa069d-bce0-4c05-a9f4-9fafc4fb0c65
DTSTAMP:20260422T031907Z
CATEGORIES:Hallenbelegung
CLASS:PUBLIC
DESCRIPTION;ALTREP="CID:<FFFF__=0ABBE548DFE235B58f9e8a93d@coffeebean.com>":
 Senioren Volleyball des TUS Oberahr
DTSTART:20220919T170000Z
DTEND:20220919T170000Z
GEO:00;0
LOCATION:
ORGANIZER:
SEQUENCE:1
SUMMARY:TUS Senioren Volleyball
TRANSP:OPAQUE
URL:https://www.oberahr.de/component/icagenda/124-tus-senioren-volleyball/2
 022-09-19-17-00
END:VEVENT
END:VCALENDAR
